BEGIN:VCALENDAR
VERSION:2.0
PRODID:spatie/icalendar-generator
DESCRIPTION:Events from Woodside
X-WR-CALDESC:Events from Woodside
REFRESH-INTERVAL;VALUE=DURATION:PT1440M
X-PUBLISHED-TTL:PT1440M
BEGIN:VTIMEZONE
TZID:Etc/GMT+0
BEGIN:STANDARD
DTSTART:20240907T090000Z
TZOFFSETFROM:+0000
TZOFFSETTO:+0000
END:STANDARD
END:VTIMEZONE
BEGIN:VTIMEZONE
TZID:UTC
BEGIN:STANDARD
DTSTART:20250729T120542Z
TZOFFSETFROM:+0000
TZOFFSETTO:+0000
END:STANDARD
END:VTIMEZONE
BEGIN:VEVENT
UID:567-28
DTSTAMP:20260425T120542Z
SUMMARY:Colors of Hope Golf Tournament
LOCATION:The Reserve Club at Woodside 3000 The Reserve Club Drive  Aiken SC
  29803
ORGANIZER;CN=Summer:MAILTO:staylor@woodsidecommunities.com
DTSTART;TZID=Etc/GMT+0:20250604T090000
DTEND;TZID=Etc/GMT+0:20250604T100000
X-ALT-DESC;FMTTYPE=TEXT/HTML:Join us for the annual Colors of Hope Golf Tou
 rnament at The Reserve Club—an inspiring day of golf\, community\, and p
 urpose. This special event brings members together to support local cancer
 -related charities\, with proceeds benefiting patients and families in nee
 d. Swing for a cause and show your support in every shot. Click here for m
 ore&amp;hellip\;
CATEGORIES:Reserve Club Event
URL;VALUE=URI:https://woodsidecommunities.com/mc-events/colors-of-hope-golf
 -tournament/
METHOD:PUBLISH
END:VEVENT
END:VCALENDAR