BEGIN:VCALENDAR
VERSION:2.0
PRODID:spatie/icalendar-generator
DESCRIPTION:Events from Woodside
X-WR-CALDESC:Events from Woodside
REFRESH-INTERVAL;VALUE=DURATION:PT1440M
X-PUBLISHED-TTL:PT1440M
BEGIN:VTIMEZONE
TZID:Etc/GMT+0
BEGIN:STANDARD
DTSTART:20240922T190000Z
TZOFFSETFROM:+0000
TZOFFSETTO:+0000
END:STANDARD
END:VTIMEZONE
BEGIN:VTIMEZONE
TZID:UTC
BEGIN:STANDARD
DTSTART:20250728T134327Z
TZOFFSETFROM:+0000
TZOFFSETTO:+0000
END:STANDARD
END:VTIMEZONE
BEGIN:VEVENT
UID:586-38
DTSTAMP:20260424T134327Z
SUMMARY:Joye in Aiken: Jazz Explosion Faculty Concert
LOCATION:Amentum Center for the Performing Arts 126 Newberry St SW  Aiken S
 C 29801
ORGANIZER;CN=Summer:MAILTO:staylor@woodsidecommunities.com
DTSTART;TZID=Etc/GMT+0:20250619T190000
DTEND;TZID=Etc/GMT+0:20250619T200000
X-ALT-DESC;FMTTYPE=TEXT/HTML:Aiken's favorite Jazz Camp faculty returns for
  yet another spectacular camp-opening concert! Taking the Etherredge Cente
 r stage for the fourth edition of this popular event\, our Julliard-traine
 d faculty members (including Artistic Director Riley Mulherkar\, beloved p
 ianist Mathis Picard\, and GRAMMY- and Tony-winning drummer Bryan Carter) 
 present an engaging new program of beloved standards and original&amp;hellip\;
CATEGORIES:Aiken Event
URL;VALUE=URI:https://woodsidecommunities.com/mc-events/joye-in-aiken-jazz-
 explosion-faculty-concert/
METHOD:PUBLISH
END:VEVENT
END:VCALENDAR