BEGIN:VCALENDAR
VERSION:2.0
PRODID:spatie/icalendar-generator
DESCRIPTION:Events from Woodside
X-WR-CALDESC:Events from Woodside
REFRESH-INTERVAL;VALUE=DURATION:PT1440M
X-PUBLISHED-TTL:PT1440M
BEGIN:VTIMEZONE
TZID:Etc/GMT+0
BEGIN:STANDARD
DTSTART:20240925T150000Z
TZOFFSETFROM:+0000
TZOFFSETTO:+0000
END:STANDARD
END:VTIMEZONE
BEGIN:VTIMEZONE
TZID:UTC
BEGIN:STANDARD
DTSTART:20250728T123121Z
TZOFFSETFROM:+0000
TZOFFSETTO:+0000
END:STANDARD
END:VTIMEZONE
BEGIN:VEVENT
UID:587-39
DTSTAMP:20260424T123121Z
SUMMARY:Joye in Aiken: Jazz Explosion Student Concert
LOCATION:Amentum Center for the Performing Arts 126 Newberry St SW  Aiken S
 C 29801
ORGANIZER;CN=Summer:MAILTO:staylor@woodsidecommunities.com
DTSTART;TZID=Etc/GMT+0:20250622T150000
DTEND;TZID=Etc/GMT+0:20250622T160000
X-ALT-DESC;FMTTYPE=TEXT/HTML:Saving the best for last\, we finish our seaso
 n with a concert by 2025's fabulous jazz campers! Come celebrate with us a
 s the students show off the skills they've learned in our four-day Summer 
 Jazz Camp. Then\, on to another thrilling Joye in Aiken in 2026! Click her
 e for more information about this event\, to&amp;hellip\;
CATEGORIES:Aiken Event
URL;VALUE=URI:https://woodsidecommunities.com/mc-events/joye-in-aiken-jazz-
 explosion-student-concert/
METHOD:PUBLISH
END:VEVENT
END:VCALENDAR