BEGIN:VCALENDAR
VERSION:2.0
PRODID:spatie/icalendar-generator
DESCRIPTION:Events from Woodside
X-WR-CALDESC:Events from Woodside
REFRESH-INTERVAL;VALUE=DURATION:PT1440M
X-PUBLISHED-TTL:PT1440M
BEGIN:VTIMEZONE
TZID:Etc/GMT+0
BEGIN:STANDARD
DTSTART:20241027T100000Z
TZOFFSETFROM:+0000
TZOFFSETTO:+0000
END:STANDARD
END:VTIMEZONE
BEGIN:VTIMEZONE
TZID:UTC
BEGIN:STANDARD
DTSTART:20250723T153713Z
TZOFFSETFROM:+0000
TZOFFSETTO:+0000
END:STANDARD
END:VTIMEZONE
BEGIN:VEVENT
UID:597-49
DTSTAMP:20260419T153713Z
SUMMARY:Butterfly Monarchy Club Meeting
LOCATION:St. John’s Methodist Church  104 Newberry St NW  Aiken SC 29801
ORGANIZER;CN=Summer:MAILTO:staylor@woodsidecommunities.com
DTSTART;TZID=Etc/GMT+0:20250724T100000
DTEND;TZID=Etc/GMT+0:20250724T110000
X-ALT-DESC;FMTTYPE=TEXT/HTML:Join us as Cold Creek Nurseries greenhouse man
 ager Michaela Berley shares expert tips on how to transform your garden in
 to a thriving butterfly haven using the power of native plants! Whether yo
 u’re just getting started or looking to expand your pollinator habitat\,
  Michaela’s insights will inspire your next gardening project. This even
 t is free to&amp;hellip\;
CATEGORIES:Woodside Event
URL;VALUE=URI:https://woodsidecommunities.com/mc-events/butterfly-monarchy-
 club-meeting-3/
METHOD:PUBLISH
END:VEVENT
END:VCALENDAR