BEGIN:VCALENDAR
VERSION:2.0
PRODID:spatie/icalendar-generator
DESCRIPTION:Events from Woodside
X-WR-CALDESC:Events from Woodside
REFRESH-INTERVAL;VALUE=DURATION:PT1440M
X-PUBLISHED-TTL:PT1440M
BEGIN:VTIMEZONE
TZID:Etc/GMT+0
BEGIN:STANDARD
DTSTART:20250817T180000Z
TZOFFSETFROM:+0000
TZOFFSETTO:+0000
END:STANDARD
END:VTIMEZONE
BEGIN:VTIMEZONE
TZID:UTC
BEGIN:STANDARD
DTSTART:20250727T185642Z
TZOFFSETFROM:+0000
TZOFFSETTO:+0000
END:STANDARD
END:VTIMEZONE
BEGIN:VEVENT
UID:966-137
DTSTAMP:20260423T185642Z
SUMMARY:Bocce Ball Spring League
LOCATION:The Village at Woodside 230 Village Green Boulevard  Aiken SC 2980
 3
ORGANIZER;CN=Summer:MAILTO:staylor@woodsidecommunities.com
RRULE:FREQ=WEEKLY;UNTIL=20260528T000000Z
DTSTART;TZID=Etc/GMT+0:20260514T180000
DTEND;TZID=Etc/GMT+0:20260514T190000
X-ALT-DESC;FMTTYPE=TEXT/HTML:Grab your friends and join us every Thursday a
 t 6:00 PM at the Village at Woodside West Pavillion/Bocce Ball Courts\, fr
 om April 16th- May 21st\, for our Bocce Ball Spring League. The end-of-sea
 son tournament will take place on May 21st! $40 registration fee per team\
 , all fees go towards the end-of-season tournament prize pot. Click&amp;hellip
 \;
CATEGORIES:Village Event
URL;VALUE=URI:https://woodsidecommunities.com/mc-events/bocce-ball-spring-l
 eague-2/?mc_id=966
METHOD:PUBLISH
END:VEVENT
END:VCALENDAR