BEGIN:VCALENDAR
VERSION:2.0
PRODID:spatie/icalendar-generator
DESCRIPTION:Events from Woodside
X-WR-CALDESC:Events from Woodside
REFRESH-INTERVAL;VALUE=DURATION:PT1440M
X-PUBLISHED-TTL:PT1440M
BEGIN:VTIMEZONE
TZID:Etc/GMT+0
BEGIN:STANDARD
DTSTART:20250825T180000Z
TZOFFSETFROM:+0000
TZOFFSETTO:+0000
END:STANDARD
END:VTIMEZONE
BEGIN:VTIMEZONE
TZID:UTC
BEGIN:STANDARD
DTSTART:20250727T203353Z
TZOFFSETFROM:+0000
TZOFFSETTO:+0000
END:STANDARD
END:VTIMEZONE
BEGIN:VEVENT
UID:969-139
DTSTAMP:20260423T203353Z
SUMMARY:Red\, White\, &amp;amp\; Blues Music with Jeff Liberty
LOCATION:The Village at Woodside 230 Village Green Boulevard  Aiken SC 2980
 3
ORGANIZER;CN=Summer:MAILTO:staylor@woodsidecommunities.com
DTSTART;TZID=Etc/GMT+0:20260522T180000
DTEND;TZID=Etc/GMT+0:20260522T200000
X-ALT-DESC;FMTTYPE=TEXT/HTML:In honor of Memorial Day Weekend\, The Village
  at Woodside invites you to join us for an evening of FREE live music by l
 ocal Blues Artist Jeff Liberty on Friday\, May 22nd from 6-8 PM. The Villa
 ge Café will be open late serving snacks\, gelato\, beer\, wine\, and cof
 fee beverages! Click here for more information&amp;hellip\;
CATEGORIES:Village Event
URL;VALUE=URI:https://woodsidecommunities.com/mc-events/red-white-blues-mus
 ic-with-jeff-liberty/
METHOD:PUBLISH
END:VEVENT
END:VCALENDAR