BEGIN:VCALENDAR
VERSION:2.0
PRODID:spatie/icalendar-generator
DESCRIPTION:Events from Woodside
X-WR-CALDESC:Events from Woodside
REFRESH-INTERVAL;VALUE=DURATION:PT1440M
X-PUBLISHED-TTL:PT1440M
BEGIN:VTIMEZONE
TZID:Etc/GMT+0
BEGIN:STANDARD
DTSTART:20230722T183000Z
TZOFFSETFROM:+0000
TZOFFSETTO:+0000
END:STANDARD
END:VTIMEZONE
BEGIN:VTIMEZONE
TZID:UTC
BEGIN:STANDARD
DTSTART:20250724T145242Z
TZOFFSETFROM:+0000
TZOFFSETTO:+0000
END:STANDARD
END:VTIMEZONE
BEGIN:VEVENT
UID:235-13
DTSTAMP:20260420T145242Z
SUMMARY:Woodside Equestrian Group Meeting
LOCATION:The Reserve Club at Woodside 3000 The Reserve Club Drive  Aiken SC
  29803
ORGANIZER;CN=Summer:MAILTO:staylor@woodsidecommunities.com
DTSTART;TZID=Etc/GMT+0:20240417T183000
DTEND;TZID=Etc/GMT+0:20240417T193000
X-ALT-DESC;FMTTYPE=TEXT/HTML:Join the Woodside Equestrian Social Group for 
 another meeting and low-key get-together! Click here for more information 
 about this event and how to join on the Club's Social Calendar.
CATEGORIES:Woodside Event
URL;VALUE=URI:https://woodsidecommunities.com/mc-events/woodside-equestrian
 -group-meeting/
METHOD:PUBLISH
END:VEVENT
END:VCALENDAR