BEGIN:VCALENDAR
VERSION:2.0
PRODID:spatie/icalendar-generator
DESCRIPTION:Events from Woodside
X-WR-CALDESC:Events from Woodside
REFRESH-INTERVAL;VALUE=DURATION:PT1440M
X-PUBLISHED-TTL:PT1440M
BEGIN:VTIMEZONE
TZID:Etc/GMT+0
BEGIN:STANDARD
DTSTART:20240829T000000Z
TZOFFSETFROM:+0000
TZOFFSETTO:+0000
END:STANDARD
END:VTIMEZONE
BEGIN:VTIMEZONE
TZID:UTC
BEGIN:STANDARD
DTSTART:20250729T204904Z
TZOFFSETFROM:+0000
TZOFFSETTO:+0000
END:STANDARD
END:VTIMEZONE
BEGIN:VEVENT
UID:568-27
DTSTAMP:20260425T204904Z
SUMMARY:Memorial Day BBQ Buffet
LOCATION:The Reserve Club at Woodside 3000 The Reserve Club Drive  Aiken SC
  29803
ORGANIZER;CN=Summer:MAILTO:staylor@woodsidecommunities.com
DTSTART;TZID=Etc/GMT+0;VALUE=DATE:20250526
DTEND;TZID=Etc/GMT+0;VALUE=DATE:20250527
X-ALT-DESC;FMTTYPE=TEXT/HTML:Join us at The Reserve Club for our annual Mem
 orial Day BBQ Buffet and Celebration\, a festive afternoon of great food\,
  live music\, and patriotic spirit. Enjoy chef-prepared barbecue favorites
 \, lawn games\, and fun for the whole family as we honor and remember thos
 e who served. Click here for more information about this event! 
CATEGORIES:Reserve Club Event
URL;VALUE=URI:https://woodsidecommunities.com/mc-events/memorial-day-bbq-bu
 ffet/
METHOD:PUBLISH
END:VEVENT
END:VCALENDAR