BEGIN:VCALENDAR
VERSION:2.0
PRODID:spatie/icalendar-generator
DESCRIPTION:Events from Woodside
X-WR-CALDESC:Events from Woodside
REFRESH-INTERVAL;VALUE=DURATION:PT1440M
X-PUBLISHED-TTL:PT1440M
BEGIN:VTIMEZONE
TZID:Etc/GMT+0
BEGIN:STANDARD
DTSTART:20240825T100000Z
TZOFFSETFROM:+0000
TZOFFSETTO:+0000
END:STANDARD
END:VTIMEZONE
BEGIN:VTIMEZONE
TZID:UTC
BEGIN:STANDARD
DTSTART:20250730T042750Z
TZOFFSETFROM:+0000
TZOFFSETTO:+0000
END:STANDARD
END:VTIMEZONE
BEGIN:VEVENT
UID:570-34
DTSTAMP:20260426T042750Z
SUMMARY:Butterfly Monarchy Club Meeting
LOCATION:St. John’s Methodist Church  104 Newberry St NW  Aiken SC 29801
ORGANIZER;CN=Summer:MAILTO:staylor@woodsidecommunities.com
DTSTART;TZID=Etc/GMT+0:20250522T100000
DTEND;TZID=Etc/GMT+0:20250522T110000
X-ALT-DESC;FMTTYPE=TEXT/HTML:Join the ladies for a special presentation by 
 Sharyn Altman\, a lifetime master gardener from Augusta\, Georgia\, whose 
 passion for horticulture and community engagement has inspired gardeners a
 cross the region. A former president of the Georgia Master Gardeners Assoc
 iation\, Sharyn has shared her expertise at major events like the Sacred H
 eart Cultural Center's garden festival&amp;hellip\;
CATEGORIES:Woodside Event
URL;VALUE=URI:https://woodsidecommunities.com/mc-events/butterfly-monarchy-
 club-meeting/
METHOD:PUBLISH
END:VEVENT
END:VCALENDAR