BEGIN:VCALENDAR
VERSION:2.0
PRODID:spatie/icalendar-generator
DESCRIPTION:Events from Woodside
X-WR-CALDESC:Events from Woodside
REFRESH-INTERVAL;VALUE=DURATION:PT1440M
X-PUBLISHED-TTL:PT1440M
BEGIN:VTIMEZONE
TZID:Etc/GMT+0
BEGIN:STANDARD
DTSTART:20240918T110000Z
TZOFFSETFROM:+0000
TZOFFSETTO:+0000
END:STANDARD
END:VTIMEZONE
BEGIN:VTIMEZONE
TZID:UTC
BEGIN:STANDARD
DTSTART:20250728T213231Z
TZOFFSETFROM:+0000
TZOFFSETTO:+0000
END:STANDARD
END:VTIMEZONE
BEGIN:VEVENT
UID:595-47
DTSTAMP:20260424T213231Z
SUMMARY:Father's Day Burgers &amp;amp\; Brews
LOCATION:The Reserve Club at Woodside 3000 The Reserve Club Drive  Aiken SC
  29803
ORGANIZER;CN=Summer:MAILTO:staylor@woodsidecommunities.com
DTSTART;TZID=Etc/GMT+0:20250615T110000
DTEND;TZID=Etc/GMT+0:20250615T160000
X-ALT-DESC;FMTTYPE=TEXT/HTML:Celebrate the magnificient men in your life wi
 th a Burger &amp;amp\; Brews buffet! Join us in the Main Dining Room on June 1
 5th to enjoy a juicy patty with all of your favorite toppings and a cold b
 rewski to top it off. Click here for more information about this event!
CATEGORIES:Reserve Club Event
URL;VALUE=URI:https://woodsidecommunities.com/mc-events/fathers-day-burgers
 -brews-2/
METHOD:PUBLISH
END:VEVENT
END:VCALENDAR