BEGIN:VCALENDAR
VERSION:2.0
PRODID:spatie/icalendar-generator
DESCRIPTION:Events from Woodside
X-WR-CALDESC:Events from Woodside
REFRESH-INTERVAL;VALUE=DURATION:PT1440M
X-PUBLISHED-TTL:PT1440M
BEGIN:VTIMEZONE
TZID:Etc/GMT+0
BEGIN:STANDARD
DTSTART:20241015T090000Z
TZOFFSETFROM:+0000
TZOFFSETTO:+0000
END:STANDARD
END:VTIMEZONE
BEGIN:VTIMEZONE
TZID:UTC
BEGIN:STANDARD
DTSTART:20250724T015713Z
TZOFFSETFROM:+0000
TZOFFSETTO:+0000
END:STANDARD
END:VTIMEZONE
BEGIN:VEVENT
UID:596-48
DTSTAMP:20260420T015713Z
SUMMARY:Butterfly Monarchy Club Meeting
LOCATION:Aiken County Library 314 Chesterfield St S  Aiken SC 29801
ORGANIZER;CN=Summer:MAILTO:staylor@woodsidecommunities.com
DTSTART;TZID=Etc/GMT+0:20250712T090000
DTEND;TZID=Etc/GMT+0:20250712T100000
X-ALT-DESC;FMTTYPE=TEXT/HTML:It’s that time again — The Butterfly Monar
 chy Club’s Annual CSRA / North America Butterfly Association (NABA) Butt
 erfly Count is just around the corner! This important citizen science proj
 ect is part of a nationwide effort to monitor butterfly populations and th
 e habitats they depend on. Your participation helps provide valuable data 
 to NABA as they&amp;hellip\;
CATEGORIES:Woodside Event
URL;VALUE=URI:https://woodsidecommunities.com/mc-events/butterfly-monarchy-
 club-meeting-2/
METHOD:PUBLISH
END:VEVENT
END:VCALENDAR