BEGIN:VCALENDAR
VERSION:2.0
PRODID:spatie/icalendar-generator
DESCRIPTION:Events from Woodside
X-WR-CALDESC:Events from Woodside
REFRESH-INTERVAL;VALUE=DURATION:PT1440M
X-PUBLISHED-TTL:PT1440M
BEGIN:VTIMEZONE
TZID:Etc/GMT+0
BEGIN:STANDARD
DTSTART:20250429T193000Z
TZOFFSETFROM:+0000
TZOFFSETTO:+0000
END:STANDARD
END:VTIMEZONE
BEGIN:VTIMEZONE
TZID:UTC
BEGIN:STANDARD
DTSTART:20250725T120038Z
TZOFFSETFROM:+0000
TZOFFSETTO:+0000
END:STANDARD
END:VTIMEZONE
BEGIN:VEVENT
UID:716-112
DTSTAMP:20260421T120038Z
SUMMARY:Mendelssohn's Italian Symphony
LOCATION:The Etherredge Center 340 Scholar Loop  Aiken SC 29801
ORGANIZER;CN=Taviana Walker:MAILTO:twalker@woodsidecommunities.com
DTSTART;TZID=Etc/GMT+0:20260124T193000
DTEND;TZID=Etc/GMT+0:20260124T203000
X-ALT-DESC;FMTTYPE=TEXT/HTML:Mendelssohn’s sparkling Italian Symphony cap
 tures the warmth and spirit of Italy that he felt during his tour of Europ
 e in 1830. Get your tickets here!
CATEGORIES:Aiken Event
URL;VALUE=URI:https://woodsidecommunities.com/mc-events/mendelssohns-italia
 n-symphony-2/
METHOD:PUBLISH
END:VEVENT
END:VCALENDAR