BEGIN:VCALENDAR
VERSION:2.0
PRODID:spatie/icalendar-generator
DESCRIPTION:Events from Woodside
X-WR-CALDESC:Events from Woodside
REFRESH-INTERVAL;VALUE=DURATION:PT1440M
X-PUBLISHED-TTL:PT1440M
BEGIN:VTIMEZONE
TZID:Etc/GMT+0
BEGIN:STANDARD
DTSTART:20250713T090000Z
TZOFFSETFROM:+0000
TZOFFSETTO:+0000
END:STANDARD
END:VTIMEZONE
BEGIN:VTIMEZONE
TZID:UTC
BEGIN:STANDARD
DTSTART:20250728T084927Z
TZOFFSETFROM:+0000
TZOFFSETTO:+0000
END:STANDARD
END:VTIMEZONE
BEGIN:VEVENT
UID:729-4
DTSTAMP:20260424T084927Z
SUMMARY:2026 Masters Tournament
LOCATION:Augusta National Golf Club 2604 Washington Road  Augusta GA 30904
ORGANIZER;CN=Summer:MAILTO:staylor@woodsidecommunities.com
DTSTART;TZID=Etc/GMT+0:20260409T090000
DTEND;TZID=Etc/GMT+0:20260412T100000
X-ALT-DESC;FMTTYPE=TEXT/HTML:Watch as golf's greatest champions go head-to-
 head in pursuit of the coveted Green Jacket! From thrilling birdies to nai
 l-biting putts\, expect nothing short of extraordinary performances from t
 he game's finest as they vie for glory on golf's grandest stage. Click her
 e for more information about this event!
CATEGORIES:Aiken Event
URL;VALUE=URI:https://woodsidecommunities.com/mc-events/2026-masters-tourna
 ment/
METHOD:PUBLISH
END:VEVENT
END:VCALENDAR